BEGIN:VCALENDAR
VERSION:2.0
PRODID:-//F O R K A R I S M A - ECPv6.15.20//NONSGML v1.0//EN
CALSCALE:GREGORIAN
METHOD:PUBLISH
X-WR-CALNAME:F O R K A R I S M A
X-ORIGINAL-URL:https://forkarisma.or.id
X-WR-CALDESC:Events for F O R K A R I S M A
REFRESH-INTERVAL;VALUE=DURATION:PT1H
X-Robots-Tag:noindex
X-PUBLISHED-TTL:PT1H
BEGIN:VTIMEZONE
TZID:Asia/Jakarta
BEGIN:STANDARD
TZOFFSETFROM:+0700
TZOFFSETTO:+0700
TZNAME:WIB
DTSTART:20250101T000000
END:STANDARD
END:VTIMEZONE
BEGIN:VEVENT
DTSTART;TZID=Asia/Jakarta:20260425T090000
DTEND;TZID=Asia/Jakarta:20260425T140000
DTSTAMP:20260422T182036
CREATED:20260422T081506Z
LAST-MODIFIED:20260422T081506Z
UID:63-1777107600-1777125600@forkarisma.or.id
SUMMARY:Paskah Sahabat  Alumni SMA SeJakarta
DESCRIPTION:Shalom\,\nPanitia PASKAH GABUNGAN BERSAMA SMA SAHABAT yg terdiri dari SMA 1 (Boedoet)\, SMA 3 (Teladan)\, SMA 4 (Gambir)\, SMA 6 (Mahakam-Blok M)\, SMA 7 (Karet Tengsin)\, SMA 8 (Tebet)\, SMA 46 (Texas) dan SMA 70 (Bulungan) Jakarta mengundang kita semua utk hadir dalam acara PASKAH BERSAMA ini yg akan diselenggarakan pada: \n📆 : Sabtu\, 25 April 2026\n🕒 : Pk. 09.30-14.00 WIB\n☕ : Registrasi & Coffee Time dimulai Pk. 09.00 WIB\n✍️ : Bersama memberitakan Kabar Baik (2 Kor 5:17)\n📢 : Ps. Marc McClendon (Founder CBN & Obor Berkat Indonesia) – bhs Indonesia\n💒 : Gereja Baptis Indonesia-Kebayoran; Jl. Tirtayasa Raya no 1 (Kebayoran); JakSel
URL:https://forkarisma.or.id/event/paskah-sahabat-alumni-sma-sejakarta/
LOCATION:Gereja Baptis Indonesia Kebayoran\, JL. Tirtayasa Raya No. 1 Kebayoran Baru\, Jakarta Selatan\, DKI\, 12\, Indonesia
ORGANIZER;CN="Forkarisma":MAILTO:info@forkarisma.or.id
END:VEVENT
END:VCALENDAR